BEGIN:VCALENDAR
VERSION:2.0
PRODID:-//Department Of Education//ac8c230b-1bae-4004-8c16-d53eb346436e
BEGIN:VTIMEZONE
TZID:Australia/Sydney
TZURL:http://tzurl.org/zoneinfo-outlook/Australia/Sydney
X-LIC-LOCATION:Australia/Sydney
BEGIN:STANDARD
TZOFFSETFROM:+1100
TZOFFSETTO:+1000
TZNAME:AEST
DTSTART:19700405T030000
RRULE:FREQ=YEARLY;BYMONTH=4;BYDAY=1SU
END:STANDARD
BEGIN:DAYLIGHT
TZOFFSETFROM:+1000
TZOFFSETTO:+1100
TZNAME:AEDT
DTSTART:19701004T020000
RRULE:FREQ=YEARLY;BYMONTH=10;BYDAY=1SU
END:DAYLIGHT
END:VTIMEZONE
CALSCALE:GREGORIAN
X-WR-TIMEZONE:Australia/Sydney
BEGIN:VEVENT
DTSTART;VALUE=DATE:20200402
DTEND;VALUE=DATE:20200404
DTSTAMP:20200402T180000Z
UID:099b902f-e061-478d-9bc8-0856ad4d727f
LOCATION:.
SUMMARY;LANGUAGE=en-us:SCHOOL PHOTOS
SEQUENCE:0
DESCRIPTION:.
END:VEVENT
TRANSP:TRANSPARENT
END:VCALENDAR
