BEGIN:VCALENDAR
VERSION:2.0
PRODID:-//Department Of Education//4d0db81f-8ff7-4fda-bbce-242d5c0dc834
BEGIN:VTIMEZONE
TZID:Australia/Sydney
TZURL:http://tzurl.org/zoneinfo-outlook/Australia/Sydney
X-LIC-LOCATION:Australia/Sydney
BEGIN:STANDARD
TZOFFSETFROM:+1100
TZOFFSETTO:+1000
TZNAME:AEST
DTSTART:19700405T030000
RRULE:FREQ=YEARLY;BYMONTH=4;BYDAY=1SU
END:STANDARD
BEGIN:DAYLIGHT
TZOFFSETFROM:+1000
TZOFFSETTO:+1100
TZNAME:AEDT
DTSTART:19701004T020000
RRULE:FREQ=YEARLY;BYMONTH=10;BYDAY=1SU
END:DAYLIGHT
END:VTIMEZONE
CALSCALE:GREGORIAN
X-WR-TIMEZONE:Australia/Sydney
BEGIN:VEVENT
DTSTART;VALUE=DATE:20200318
DTEND;VALUE=DATE:20200319
DTSTAMP:20200318T180000Z
UID:9a244eab-5566-4064-8c84-59c0d15988b3
LOCATION:Staffroom
SUMMARY;LANGUAGE=en-us:P&C MEETING
SEQUENCE:0
DESCRIPTION:All parents welcome
END:VEVENT
TRANSP:TRANSPARENT
END:VCALENDAR
