BEGIN:VCALENDAR
VERSION:2.0
PRODID:-//Department Of Education//da34213d-e544-413a-8453-4a3b7164363f
BEGIN:VTIMEZONE
TZID:Australia/Sydney
TZURL:http://tzurl.org/zoneinfo-outlook/Australia/Sydney
X-LIC-LOCATION:Australia/Sydney
BEGIN:STANDARD
TZOFFSETFROM:+1100
TZOFFSETTO:+1000
TZNAME:AEST
DTSTART:19700405T030000
RRULE:FREQ=YEARLY;BYMONTH=4;BYDAY=1SU
END:STANDARD
BEGIN:DAYLIGHT
TZOFFSETFROM:+1000
TZOFFSETTO:+1100
TZNAME:AEDT
DTSTART:19701004T020000
RRULE:FREQ=YEARLY;BYMONTH=10;BYDAY=1SU
END:DAYLIGHT
END:VTIMEZONE
CALSCALE:GREGORIAN
X-WR-TIMEZONE:Australia/Sydney
BEGIN:VEVENT
DTSTART;VALUE=DATE:20200302
DTEND;VALUE=DATE:20200307
DTSTAMP:20200302T190000Z
UID:3afd7c4d-0f1f-4dfe-8596-88101a44af05
LOCATION:Port Macquarie Olympic Pool
SUMMARY;LANGUAGE=en-us:CATCH-UP for YEAR 2 INTENSIVE SWIMMING
SEQUENCE:0
DESCRIPTION:Allowing Year 3 (Year 2, 2019) students to complete their cancelled Intensive Swimming program
END:VEVENT
TRANSP:TRANSPARENT
END:VCALENDAR
