BEGIN:VCALENDAR
VERSION:2.0
PRODID:-//Department Of Education//282b4823-b505-4b27-a00d-3f8565c79248
BEGIN:VTIMEZONE
TZID:Australia/Sydney
TZURL:http://tzurl.org/zoneinfo-outlook/Australia/Sydney
X-LIC-LOCATION:Australia/Sydney
BEGIN:STANDARD
TZOFFSETFROM:+1100
TZOFFSETTO:+1000
TZNAME:AEST
DTSTART:19700405T030000
RRULE:FREQ=YEARLY;BYMONTH=4;BYDAY=1SU
END:STANDARD
BEGIN:DAYLIGHT
TZOFFSETFROM:+1000
TZOFFSETTO:+1100
TZNAME:AEDT
DTSTART:19701004T020000
RRULE:FREQ=YEARLY;BYMONTH=10;BYDAY=1SU
END:DAYLIGHT
END:VTIMEZONE
CALSCALE:GREGORIAN
X-WR-TIMEZONE:Australia/Sydney
BEGIN:VEVENT
DTSTART;VALUE=DATE:20200327
DTEND;VALUE=DATE:20200328
DTSTAMP:20200327T180000Z
UID:b44d7fd7-9bea-4891-b4b5-7ed97afc6e7c
LOCATION:School COLA
SUMMARY;LANGUAGE=en-us:BUSH DANCE 
SEQUENCE:0
DESCRIPTION:The Billy Tea Bush Band are back for a fabulous day of dance and a night of family fun!
END:VEVENT
TRANSP:TRANSPARENT
END:VCALENDAR
